BEGIN:VCALENDAR
VERSION:2.0
PRODID:-//Art House 310 - ECPv6.15.20//NONSGML v1.0//EN
CALSCALE:GREGORIAN
METHOD:PUBLISH
X-WR-CALNAME:Art House 310
X-ORIGINAL-URL:https://arthouse310.com
X-WR-CALDESC:Events for Art House 310
REFRESH-INTERVAL;VALUE=DURATION:PT1H
X-Robots-Tag:noindex
X-PUBLISHED-TTL:PT1H
BEGIN:VTIMEZONE
TZID:America/Chicago
BEGIN:DAYLIGHT
TZOFFSETFROM:-0600
TZOFFSETTO:-0500
TZNAME:CDT
DTSTART:20230312T080000
END:DAYLIGHT
BEGIN:STANDARD
TZOFFSETFROM:-0500
TZOFFSETTO:-0600
TZNAME:CST
DTSTART:20231105T070000
END:STANDARD
BEGIN:DAYLIGHT
TZOFFSETFROM:-0600
TZOFFSETTO:-0500
TZNAME:CDT
DTSTART:20240310T080000
END:DAYLIGHT
BEGIN:STANDARD
TZOFFSETFROM:-0500
TZOFFSETTO:-0600
TZNAME:CST
DTSTART:20241103T070000
END:STANDARD
BEGIN:DAYLIGHT
TZOFFSETFROM:-0600
TZOFFSETTO:-0500
TZNAME:CDT
DTSTART:20250309T080000
END:DAYLIGHT
BEGIN:STANDARD
TZOFFSETFROM:-0500
TZOFFSETTO:-0600
TZNAME:CST
DTSTART:20251102T070000
END:STANDARD
END:VTIMEZONE
BEGIN:VEVENT
DTSTART;VALUE=DATE:20240906
DTEND;VALUE=DATE:20240923
DTSTAMP:20260424T212757
CREATED:20230315T174432Z
LAST-MODIFIED:20240826T222006Z
UID:12662-1725580800-1727049599@arthouse310.com
SUMMARY:Art House 310 First Friday – Five Artists Show
DESCRIPTION:Art House 310 First Friday – Five Artists Show\nOpening Reception | First Friday September 6th\, 2024 | 6-10pm\nThis event is free to attend and open to the public. Show hangs through September 22nd\, 2024. Art House 310 is located at 310 S. Laura. Two blocks SE of Douglas & Washington in downtown Wichita. \nParticipating Artists:\nMATTHEW HILYARD\nCLINTON WILLIS\nDAVID PETTY\nJEREMY WILLIAMS\nTIMOTHY REAMES \nArtist Statements:\nMATTHEW HILYARD \nMy work aligns itself in the liminal space between disciplines. With a wide range of mediums. \nWorking what comes to hand: discarded remnants of trades & the everyday. This eclectic approach to materiality encapsulates the notion of wayfaring\, following the materials rather then traveling a fixed path. \nI always investigate the art as an object premise and through this practice I aim to find a balance between artist led intervention\, networked assemblage and material agency. Materiality allows me to consider painting as a set of possibilities rather than a medium in stasis. \nSee more of Matthew’s work on Instagram at https://www.instagram.com/matthewhilyardart15/. \nCLINTON WILLIS \n\n\n\n\nMy art is an homage or a love letter to the art movements of German Expressionism \nand Fauvism. Both of these movements began in the early 20th century but faded over time like many other art movements of the past. \nWhen I paint an expressionist or fauvist piece\, I do not want to add any kind of modern flair to the work. Rather than reinventing the two art movements I want to study them and try as best as I can to capture the expressionist and fauvist spirit. I want my work to look and feel old as if it was done between the 1920s -1940s when German Expressionism and Fauvism were thriving. \nIf one has never heard of Fauvism or German Expressionism know that they can both be summarized as diving into bold and vibrant colors and the work made is not based on or guided by realism principles but emotion. \nSee more of Clintons’s work on Instagram at https://www.instagram.com/clinton.tarantino/. \nDAVID PETTY \n\n\n\n\n“I am David Petty\, a mixed-media artist specializing in abstract compositions that explore the intersection of layered collage and various mark-making techniques. My work combines these elements to evoke a profound sense of nostalgia\, inviting viewers to connect with the past through textured and dynamic visuals. Often inspired by old paper and illustrations\, my pieces reinterpret these materials\, giving them new life and context. \nMy artistic journey began with a fascination for vintage ephemera and the stories they hold. I am particularly drawn to the tactile qualities of aged paper\, weathered photographs\, and antique illustrations\, which I incorporate into my work to create a dialogue between the past and the present. Through layering and manipulation\, I aim to uncover hidden narratives and evoke emotions tied to memory and time. \nThe process of creating my art is both intuitive and deliberate. I start by selecting materials that resonate with my current themes\, often scavenging for unique textures and patterns. Mark-making techniques\, such as drawing\, painting\, and scratching\, are then applied to build complexity and depth within the composition. Each mark is a testament to the passage of time\, reflecting the gradual accumulation of experiences and memories. \nThemes of nostalgia\, memory\, and the passage of time are central to my work. I strive to create pieces that not only capture the essence of bygone eras but also invite viewers to reflect on their own personal histories. By juxtaposing contemporary elements with historical references\, I seek to bridge the gap between the past and the present\, offering a space for contemplation and connection. \nUltimately\, my goal is to create art that resonates on a deeply personal level\, sparking a sense of recognition and reminiscence. Through my mixed-media practice\, I hope to inspire others to appreciate the beauty of the past while embracing the present and future.” \nSee more of David’s work on Instagram at https://www.instagram.com/davidapetty/. \nJEREMY WILLIAMS \n\n\n\n\nI’ve always had an interest in how design elements interact with each other\, and by implementing various materials\, I’ve embraced the seemingly infinite possibilities of mixed media. I’m constantly evaluating what my piece “needs” in order to achieve the “variety within unity” mantra. “Dimensional” painting has become my focus\, honing my style\, while still being flexible enough to explore different techniques. \nI enjoy employing deep/hidden concepts into my work\, as I have a somewhat-cryptic mind. The title can aid the viewer to have the “aha” moment\, for what the work is about\, but those concepts are not the priority. I strive to provide solid design\, as my primary motive is of viewer experience\, to be creative and innovative\, and hold their attention. \nMy love of abstract is rooted not only in design\, but also in the opportunity to connect with the viewer in a unique way. \nSee more of Jeremy’s work on Instagram at https://www.instagram.com/jerillium/. \nTIMOTHY REAMES \n\n\n\n\nMy artwork is a dialogue between realism and abstraction\, rendered through the vibrant medium of acrylic paint on canvas. I am deeply influenced by my experiences in the military and my travels around the globe\, which have profoundly shaped my understanding of emotion and color. \nIn my realistic animal portraits\, I strive to capture the essence and intricacy of each animal\, starting with the eyes. Each piece is a meticulous exploration of form and texture\, reflecting my fascination with the natural world. Through detailed brushwork and a focus on accuracy\, I aim to evoke a sense of connection and reverence for the beautiful animals that share our planet. \nConversely\, my abstract work is a personal journey into the realm of color and emotion. I select hues that resonate with me on a visceral level\, and my compositions emerge from the interplay between these colors and the feelings they provoke. This intuitive approach allows me to explore and express complex emotional landscapes\, informed by my diverse experiences. \nMy creative process is immersive and intense. Once I conceive an idea\, I dedicate myself to it wholly\, often working for days or even weeks until the piece feels complete. This dedication reflects my commitment to capturing and conveying the depth of my experiences and emotions through art. \nUltimately\, my work is an exploration of the intersection between the tangible and the intangible. It is a quest to convey the profound impact of my experiences and the nuanced spectrum of emotions that arise from them. Through both realism and abstraction\, I seek to invite viewers into a space of contemplation and connection. \n\n\n\n\n\n\n\n\n\n\n\n\n\n\n\n\nwww.ArtHouse310.com\nFacebook | @ArtHouse310\,  Instagram | @ArtHouse310\, TikTok | @AngieAwesomePants
URL:https://arthouse310.com/event/fiveartistsshow/
LOCATION:Art House 310\, 310 S. Laura\, Wichita\, 67211\, United States
CATEGORIES:Art,Current Exhibition,Events
ATTACH;FMTTYPE=image/jpeg:https://arthouse310.com/wp-content/uploads/2023/03/SEPTFF_MensAbstractShow_header-01.jpg
ORGANIZER;CN="Art House 310":MAILTO:info@arthouse310.com
END:VEVENT
END:VCALENDAR