BEGIN:VCALENDAR
VERSION:2.0
PRODID:-//Art House 310 - ECPv6.15.20//NONSGML v1.0//EN
CALSCALE:GREGORIAN
METHOD:PUBLISH
X-ORIGINAL-URL:https://arthouse310.com
X-WR-CALDESC:Events for Art House 310
REFRESH-INTERVAL;VALUE=DURATION:PT1H
X-Robots-Tag:noindex
X-PUBLISHED-TTL:PT1H
BEGIN:VTIMEZONE
TZID:America/Chicago
BEGIN:DAYLIGHT
TZOFFSETFROM:-0600
TZOFFSETTO:-0500
TZNAME:CDT
DTSTART:20250309T080000
END:DAYLIGHT
BEGIN:STANDARD
TZOFFSETFROM:-0500
TZOFFSETTO:-0600
TZNAME:CST
DTSTART:20251102T070000
END:STANDARD
BEGIN:DAYLIGHT
TZOFFSETFROM:-0600
TZOFFSETTO:-0500
TZNAME:CDT
DTSTART:20260308T080000
END:DAYLIGHT
BEGIN:STANDARD
TZOFFSETFROM:-0500
TZOFFSETTO:-0600
TZNAME:CST
DTSTART:20261101T070000
END:STANDARD
BEGIN:DAYLIGHT
TZOFFSETFROM:-0600
TZOFFSETTO:-0500
TZNAME:CDT
DTSTART:20270314T080000
END:DAYLIGHT
BEGIN:STANDARD
TZOFFSETFROM:-0500
TZOFFSETTO:-0600
TZNAME:CST
DTSTART:20271107T070000
END:STANDARD
END:VTIMEZONE
BEGIN:VEVENT
DTSTART;VALUE=DATE:20260501
DTEND;VALUE=DATE:20260525
DTSTAMP:20260423T163255
CREATED:20250822T014917Z
LAST-MODIFIED:20260414T011719Z
UID:13137-1777593600-1779667199@arthouse310.com
SUMMARY:Art House 310 First Friday – Josh Bethel & Kevin Hansen
DESCRIPTION:Art House 310 First Friday – Josh Bethel & Kevin Hansen\nOpening Reception | First Friday May 1st\, 2026 | 6-10pm\nThis event is free to attend and open to the public. Show hangs through May 24th\, 2026.\nArt House 310 is located at 310 S. Laura. Two blocks SE of Douglas & Washington in downtown Wichita. \nNOTE: Open gallery hours throughout the exhibition are generally Tuesday and Thursday\, 6-9pm and Sunday\, 1-4pm. \nJOSH BETHEL \nJosh Bethel\, The Artist Known as JRB5\, is a colorful artist and podcast host based out of Wichita\, KS. His artwork is a vibrant menagerie of bizarre creatures and surreal scenes. Each piece is a puzzle of symbolism and wonder\, inviting viewers into a world where the unexpected is the norm. \nOver the last four years he has created 100’s of traditional paintings and digital pieces of artwork. His artwork can be found on Room Green Productions social media pages where he creates artwork\, content and his podcasts\, Art Assault Podcast and ForMusicLoversOnly! the Podcast. \nThe Art Assault Podcast is a unique interview style podcast where him and Kevin Hansen chat with some of the coolest people on the planet\, while collaborating on a painting during the live broadcast. They have over 100 episodes under their belt with no end in sight. \nForMusicLoversOnly! the Podcast is his newest podcast where him and his cast of rotating hosts create a Top 5 List of their favorite songs from that week’s topic and discuss why these songs have made their list. \nSee more of Josh & Kevin’s work online: roomgreenproductions.com on Instagram: @roomgreenproductions Facebook: @RoomGreenProductions and YouTube: @roomgreenproductions \nKEVIN HANSEN \nHello\, my name is Kevin\, and welcome to Art House 310. I want to change the world by becoming an artist. My studio of work can be created almost anywhere. Not just in my studio\, but live in a podcast studio\, in a bar\, a corner on the sidewalk\, or even a parking lot where I just pull up. I do my best work with an audience. Where I feed off the energy from an audience to create the images to be presented. I rarely plan what is going to be created. I add layers of color and shapes till an image becomes alive from the process. \nIt’s a raw process of creativity that compelled me to continue to explore the depth of the energy and imagery around you. I want my viewers to realize anyone can create. Just find the tools you want to create with. I have utilized my live art presentation to help raise tens of thousands of dollars over the years and I will continue to do so. \nI hope you enjoy my art. I’ve been doing art as long as I can remember. Even took enough classes in college to get a degree. I never stopped\, even during my stint in the military. I retired in May of 2025 so that I can pursue my life dream of being creative full time. \nSee more of Josh & Kevin’s work online: roomgreenproductions.com on Instagram: @roomgreenproductions Facebook: @RoomGreenProductions and YouTube: @roomgreenproductions\nSee more of Kevin’s work on Instagram: @kevin_gary_hansen and Facebook: @kevin.hansen.1671 \nwww.ArtHouse310.com\nFacebook | @ArtHouse310\,  Instagram | @ArtHouse310\, TikTok | @AngieAwesomePants
URL:https://arthouse310.com/event/joshbethelkevinhansen/
LOCATION:Art House 310\, 310 S. Laura\, Wichita\, 67211\, United States
CATEGORIES:Art,Current Exhibition,Events
ATTACH;FMTTYPE=image/jpeg:https://arthouse310.com/wp-content/uploads/2025/08/MAYFF_JoshBethel_KevinHansen_header-01.jpg
ORGANIZER;CN="Art House 310":MAILTO:info@arthouse310.com
END:VEVENT
END:VCALENDAR