BEGIN:VCALENDAR
VERSION:2.0
PRODID:-//Art House 310 - ECPv6.15.20//NONSGML v1.0//EN
CALSCALE:GREGORIAN
METHOD:PUBLISH
X-WR-CALNAME:Art House 310
X-ORIGINAL-URL:https://arthouse310.com
X-WR-CALDESC:Events for Art House 310
REFRESH-INTERVAL;VALUE=DURATION:PT1H
X-Robots-Tag:noindex
X-PUBLISHED-TTL:PT1H
BEGIN:VTIMEZONE
TZID:America/Chicago
BEGIN:DAYLIGHT
TZOFFSETFROM:-0600
TZOFFSETTO:-0500
TZNAME:CDT
DTSTART:20230312T080000
END:DAYLIGHT
BEGIN:STANDARD
TZOFFSETFROM:-0500
TZOFFSETTO:-0600
TZNAME:CST
DTSTART:20231105T070000
END:STANDARD
BEGIN:DAYLIGHT
TZOFFSETFROM:-0600
TZOFFSETTO:-0500
TZNAME:CDT
DTSTART:20240310T080000
END:DAYLIGHT
BEGIN:STANDARD
TZOFFSETFROM:-0500
TZOFFSETTO:-0600
TZNAME:CST
DTSTART:20241103T070000
END:STANDARD
BEGIN:DAYLIGHT
TZOFFSETFROM:-0600
TZOFFSETTO:-0500
TZNAME:CDT
DTSTART:20250309T080000
END:DAYLIGHT
BEGIN:STANDARD
TZOFFSETFROM:-0500
TZOFFSETTO:-0600
TZNAME:CST
DTSTART:20251102T070000
END:STANDARD
END:VTIMEZONE
BEGIN:VEVENT
DTSTART;VALUE=DATE:20240607
DTEND;VALUE=DATE:20240624
DTSTAMP:20260425T054320
CREATED:20230315T173846Z
LAST-MODIFIED:20240519T212856Z
UID:12656-1717718400-1719187199@arthouse310.com
SUMMARY:Art House 310 First Friday – Aida Bell & Sheldon Draper
DESCRIPTION:Art House 310 First Friday – Aida Bell & Sheldon Draper\nOpening Reception | First Friday June 7th\, 2024 | 6-10pm\nThis event is free to attend and open to the public. Show hangs through June 23rd\, 2024. \nArt House 310 is located at 310 S. Laura. Two blocks SE of Douglas & Washington in downtown Wichita. \nAIDA BELL \nAida Bell specializes in abstract and Silhouettes paintings\, she creates sculpted paintings straight out of her imagination; She has developed her unique texture\, aiming to depict beauty and emotions through a combination of colors\, texture\, and shapes with always a touch of gold or silver. “It adds ce je ne sais quoi.” As she likes to say. \nIn 2021\, Aida Bell was selected by SAATCHIART as one of a hundred most exciting emerging artists. She has participated in many renowned art fairs\, nationwide and internationally. She is represented by the Ferleman gallery group\, in Maryland. She is also the co-owner of gallery XII with other local Wichita artists. \nSee more of Aida’s work online at https://www.aidabellart.com/ on Facebook https://www.facebook.com/profile.php?id=100089223441538 and on TikTok https://www.tiktok.com/@aidabellart \nSHELDON DRAPER \nI work in a way that is expressive\, illustrative and gestural. I’m expressing the way I see the world through the build up of marks\, texture\, and color. \nI include pieces of the world around me through found objects. (Cigarette packaging\, gum wrappers\, magazine clippings\, receipts and other things of that nature.) \nSee more of Sheldon’s work online at https://www.sheldonaintcool.com/ and on Instagram https://www.instagram.com/sheldonaintcool/ \nwww.ArtHouse310.com\nFacebook | @ArtHouse310\,  Instagram | @ArtHouse310\, TikTok | @AngieAwesomePants
URL:https://arthouse310.com/event/aidabellsheldondraper/
LOCATION:Art House 310\, 310 S. Laura\, Wichita\, 67211\, United States
CATEGORIES:Art,Current Exhibition,Events
ATTACH;FMTTYPE=image/jpeg:https://arthouse310.com/wp-content/uploads/2023/03/JUNEFF_AidaBell_SheldonDraper_header-01.jpg
ORGANIZER;CN="Art House 310":MAILTO:info@arthouse310.com
END:VEVENT
END:VCALENDAR