BEGIN:VCALENDAR
VERSION:2.0
PRODID:-//Art House 310 - ECPv6.15.20//NONSGML v1.0//EN
CALSCALE:GREGORIAN
METHOD:PUBLISH
X-ORIGINAL-URL:https://arthouse310.com
X-WR-CALDESC:Events for Art House 310
REFRESH-INTERVAL;VALUE=DURATION:PT1H
X-Robots-Tag:noindex
X-PUBLISHED-TTL:PT1H
BEGIN:VTIMEZONE
TZID:America/Chicago
BEGIN:DAYLIGHT
TZOFFSETFROM:-0600
TZOFFSETTO:-0500
TZNAME:CDT
DTSTART:20230312T080000
END:DAYLIGHT
BEGIN:STANDARD
TZOFFSETFROM:-0500
TZOFFSETTO:-0600
TZNAME:CST
DTSTART:20231105T070000
END:STANDARD
BEGIN:DAYLIGHT
TZOFFSETFROM:-0600
TZOFFSETTO:-0500
TZNAME:CDT
DTSTART:20240310T080000
END:DAYLIGHT
BEGIN:STANDARD
TZOFFSETFROM:-0500
TZOFFSETTO:-0600
TZNAME:CST
DTSTART:20241103T070000
END:STANDARD
BEGIN:DAYLIGHT
TZOFFSETFROM:-0600
TZOFFSETTO:-0500
TZNAME:CDT
DTSTART:20250309T080000
END:DAYLIGHT
BEGIN:STANDARD
TZOFFSETFROM:-0500
TZOFFSETTO:-0600
TZNAME:CST
DTSTART:20251102T070000
END:STANDARD
END:VTIMEZONE
BEGIN:VEVENT
DTSTART;VALUE=DATE:20241206
DTEND;VALUE=DATE:20241223
DTSTAMP:20260424T193151
CREATED:20230315T174936Z
LAST-MODIFIED:20241202T002958Z
UID:12668-1733443200-1734911999@arthouse310.com
SUMMARY:Art House 310 First Friday – Dominique Joiner & Brittany Stewart
DESCRIPTION:Art House 310 First Friday – Dominique Joiner & Brittany Stewart\nOpening Reception | First Friday December 6th\, 2024 | 6-10pm\nThis event is free to attend and open to the public. Show hangs through December 22nd\, 2024. \nArt House 310 is located at 310 S. Laura. Two blocks SE of Douglas & Washington in downtown Wichita. \nDOMINIQUE JOINER \nDominique Joiner (b 1988 Wichita\, Kansas) uses her chosen mediums of acrylic and oils to identify the experience of women in a male dominated society. \nDominique has observed the lives of many women from several walks of life and uses the influence of these women to relay her narrative. She uses the ideals of sensuality and affection to draw the viewer in and coaxes them to become more aware with riveting details and underlying messages. Dominique has a goal of pressing women to gain more ipseity\, regardless of the rhetoric they are taught to the contrary. \nIpseity starts with awareness\, the doorway to change. Many of the artist’s paintings directly depict the chosen problem\, with no offer of a solution\, forcing the viewer to digest and relate. The use of golden accents is meant to show a sense of majesty and divinity that women carry\, regardless of the situation\, be it vulnerable or powerful. As the gateway to life\, women deserve to be viewed as such. \nDominique’s art will encourage individuals to search inwardly and come to peace with their feelings. \nSee more of Dominique’s work on Instagram: https://www.instagram.com/domiijo/ on Facebook: https://www.facebook.com/DomiiiJo/ and on TikTok: https://www.tiktok.com/@domiijo \nBRITTANY STEWART \nA Wichita local and self taught\, contemporary visual artist. \nOvertime art became a gateway for self expression. My purpose as an artist is to explore around the human conditions\, how we fit into the rest of the world. Quite frankly what makes us different and unique. We may never have it all figured out\, but I’ll continue to stay reflective because I experience uncertainty and certainty within the same energy. \nWithing my work I share my love for color\, texture and shapes. My pieces are almost always Abstract and figure based. Understanding that our true portraits are much more than what we see with our own eyes. It’s a much deeper dive into who we are. \nThroughout this series I focused on the various stages we may face as we go through life changes. \nSee more of Brittany’s work on Instagram: https://www.instagram.com/belove_/ and on Facebook: https://www.facebook.com/profile.php?id=100011454252295 \nwww.ArtHouse310.com\nFacebook | @ArtHouse310\,  Instagram | @ArtHouse310\, TikTok | @AngieAwesomePants
URL:https://arthouse310.com/event/dominiquejoinerbrittanystewart/
LOCATION:Art House 310\, 310 S. Laura\, Wichita\, 67211\, United States
CATEGORIES:Art,Current Exhibition,Events
ATTACH;FMTTYPE=image/jpeg:https://arthouse310.com/wp-content/uploads/2023/03/DECFF_DominiqueJoiner_BrittanyStewart_header.jpg
ORGANIZER;CN="Art House 310":MAILTO:info@arthouse310.com
END:VEVENT
END:VCALENDAR