BEGIN:VCALENDAR
VERSION:2.0
PRODID:-//Art House 310 - ECPv6.15.20//NONSGML v1.0//EN
CALSCALE:GREGORIAN
METHOD:PUBLISH
X-ORIGINAL-URL:https://arthouse310.com
X-WR-CALDESC:Events for Art House 310
REFRESH-INTERVAL;VALUE=DURATION:PT1H
X-Robots-Tag:noindex
X-PUBLISHED-TTL:PT1H
BEGIN:VTIMEZONE
TZID:America/Chicago
BEGIN:DAYLIGHT
TZOFFSETFROM:-0600
TZOFFSETTO:-0500
TZNAME:CDT
DTSTART:20240310T080000
END:DAYLIGHT
BEGIN:STANDARD
TZOFFSETFROM:-0500
TZOFFSETTO:-0600
TZNAME:CST
DTSTART:20241103T070000
END:STANDARD
BEGIN:DAYLIGHT
TZOFFSETFROM:-0600
TZOFFSETTO:-0500
TZNAME:CDT
DTSTART:20250309T080000
END:DAYLIGHT
BEGIN:STANDARD
TZOFFSETFROM:-0500
TZOFFSETTO:-0600
TZNAME:CST
DTSTART:20251102T070000
END:STANDARD
BEGIN:DAYLIGHT
TZOFFSETFROM:-0600
TZOFFSETTO:-0500
TZNAME:CDT
DTSTART:20260308T080000
END:DAYLIGHT
BEGIN:STANDARD
TZOFFSETFROM:-0500
TZOFFSETTO:-0600
TZNAME:CST
DTSTART:20261101T070000
END:STANDARD
END:VTIMEZONE
BEGIN:VEVENT
DTSTART;VALUE=DATE:20251107
DTEND;VALUE=DATE:20251123
DTSTAMP:20260424T013104
CREATED:20241103T213751Z
LAST-MODIFIED:20251005T202423Z
UID:12993-1762473600-1763855999@arthouse310.com
SUMMARY:Art House 310 First Friday – Robin Danks & Lindsey McFarland
DESCRIPTION:Art House 310 First Friday – Robin Danks & Lindsey McFarland\nOpening Reception | First Friday November 7th\, 2025 | 6-10pm\nThis event is free to attend and open to the public. Show hangs through November 22nd\, 2025. Art House 310 is located at 310 S. Laura. Two blocks SE of Douglas & Washington in downtown Wichita.\nNOTE: Open gallery hours throughout the exhibition are generally Tuesday and Thursday\, 6-9pm and Sunday\, 1-4pm. \nROBIN DANKS \nRobin Danks is a visual artist based in Wichita\, Kansas. After a decades-long career in healthcare\, she embraced art as her full-time pursuit\, developing a practice known for its bold textures\, vibrant palettes\, and experimental mark-making. Working across acrylics\, India ink\, and mixed media\, Danks challenges traditional boundaries while grounding her work in instinct\, imagination\, and expressive freedom. \nSee more of Robin’s work online at DanksyArt.com on Facebook: @DanksW3CreationsRobyn and on Instagram: @danksy.art.studio \nLINDSEY MCFARLAND \n“A Story In The Details” \nI began drawing when I was a kid—mostly cartoons\, sketching playful characters like Donald Duck\, Scooby Doo and Winnie the Pooh\, or creating my own comic strip stories. Art became a way for me to retreat into my own little world\, a space where I could disconnect and dream. That’s where my love for art really took root. \nAs I got older\, I explored different mediums\, but I always found myself coming back to drawing with a black pen. There was something captivating about the boldness and simplicity of using a single pen—the way it allowed me to create with such clarity. It wasn’t until my late twenties that I finally found my own style. It all began with drawing pet portraits. I played with different techniques like scratch methods and textured shading. Eventually I stumbled across stippling\, and something just clicked! \nThrough hours and hours of shading (and patience)\, I build my stippling drawings dot by dot with a .005 sized pen. I prefer the smaller sized pens to get as much detail as possible. Organic materials are my usual subjects; fur\, bone\, or plants. Going back to my childhood\, I try to capture an “old storybook” energy with my drawings. As simple as these drawings may be\, there is always a hidden story behind the creation of them. A single stippling drawing can take anywhere between 20-100 hours to compete. I am also a pet portrait artist by commission\, check out my website or my Instagram page for my full portfolio. \nWhen I need a break from the tedious stippling\, I use linocut and print making as my secondary creative outlet. My linocut prints are a bit more abstract. I transfer these drawings onto linoleum\, then carve and chip away at the surface. It satisfies a creative urge I never knew I had\, and using different colors and paints makes the process feel more playful and relaxed compared to stippling. \nI use both styles to reflect the full range of who I am\, with a lot of precision and meticulous work. Creating pet portraits is something I’m deeply proud of\, but my original work is where my personality shines — a little dark\, a little whimsical\, and a little shadow of what I love the most\, to create. \nSee more of Lindsey’s work online at doodles-n-ink.square.site on Facebook: @doodlesnink and on Instagram: @doodlesnink \nwww.ArtHouse310.com\nFacebook | @ArtHouse310\,  Instagram | @ArtHouse310\, TikTok | @AngieAwesomePants
URL:https://arthouse310.com/event/robindankslindseymcfarland/
LOCATION:Art House 310\, 310 S. Laura\, Wichita\, 67211\, United States
CATEGORIES:Art,Current Exhibition,Events
ATTACH;FMTTYPE=image/jpeg:https://arthouse310.com/wp-content/uploads/2024/11/NOVFF_RobinDanks_LindseyMcFarland_header-01.jpg
ORGANIZER;CN="Art House 310":MAILTO:info@arthouse310.com
END:VEVENT
END:VCALENDAR