BEGIN:VCALENDAR
VERSION:2.0
PRODID:-//Art House 310 - ECPv6.15.20//NONSGML v1.0//EN
CALSCALE:GREGORIAN
METHOD:PUBLISH
X-ORIGINAL-URL:https://arthouse310.com
X-WR-CALDESC:Events for Art House 310
REFRESH-INTERVAL;VALUE=DURATION:PT1H
X-Robots-Tag:noindex
X-PUBLISHED-TTL:PT1H
BEGIN:VTIMEZONE
TZID:America/Chicago
BEGIN:DAYLIGHT
TZOFFSETFROM:-0600
TZOFFSETTO:-0500
TZNAME:CDT
DTSTART:20230312T080000
END:DAYLIGHT
BEGIN:STANDARD
TZOFFSETFROM:-0500
TZOFFSETTO:-0600
TZNAME:CST
DTSTART:20231105T070000
END:STANDARD
BEGIN:DAYLIGHT
TZOFFSETFROM:-0600
TZOFFSETTO:-0500
TZNAME:CDT
DTSTART:20240310T080000
END:DAYLIGHT
BEGIN:STANDARD
TZOFFSETFROM:-0500
TZOFFSETTO:-0600
TZNAME:CST
DTSTART:20241103T070000
END:STANDARD
BEGIN:DAYLIGHT
TZOFFSETFROM:-0600
TZOFFSETTO:-0500
TZNAME:CDT
DTSTART:20250309T080000
END:DAYLIGHT
BEGIN:STANDARD
TZOFFSETFROM:-0500
TZOFFSETTO:-0600
TZNAME:CST
DTSTART:20251102T070000
END:STANDARD
END:VTIMEZONE
BEGIN:VEVENT
DTSTART;VALUE=DATE:20241101
DTEND;VALUE=DATE:20241125
DTSTAMP:20260424T161557
CREATED:20230315T174806Z
LAST-MODIFIED:20241017T232855Z
UID:12666-1730419200-1732492799@arthouse310.com
SUMMARY:Art House 310 First Friday – Serena Salerno & Deber
DESCRIPTION:Art House 310 First Friday – Serena Salerno & Deber\nOpening Reception | First Friday November 1st\, 2024 | 6-10pm\nThis event is free to attend and open to the public. Show hangs through November 24th\, 2024. \nArt House 310 is located at 310 S. Laura. Two blocks SE of Douglas & Washington in downtown Wichita. \nSERENA SALERNO \nMy art is all about the bright colors and energy of nature\, combining vivid acrylic paints with a playful imagination. I draw endless inspiration from sea creatures and animals on land\, bringing them to life in a way that feels both magical and lively. The bold colors in my work aim to capture the unique beauty of these creatures. \nI also love adding cartoon characters to my art\, which brings a fun touch to my paintings. This mix of real-life animals and playful\, animated elements creates a unique style that invites viewers to see these creatures in a new and exciting way. \nThrough my paintings\, I want to offer a joyful escape where colors and shapes come together to celebrate the wonder of nature. My goal is to connect with viewers and make them see the natural world in a fresh\, vibrant\, life. \nSee more of Serena’s work on Instagram: https://www.instagram.com/jujuoctopus/ \nEMMANUEL CAMPOS PEREZ (DEBER) \nMy artwork is abstracted personal storytelling. A mix of mediums\, mainly spray paint and acrylics. Graffiti art permeates all my work\, and the themes I try to communicate with it. I try to convey a feeling more than a straightforward message. \nI am inspired by many friends that share a lifelong dedication to Graffiti as an art form\, as well as many Old Western artists. \nI have dedicated most of my life to painting Graffiti\, and I will always strive to paint more and more of it. I see my Canvas paintings as another way of exercising my craft and projecting the aesthetics and skills I have learned for a broader audience. \nTo me Art is not means to an end\, is the end itself. \nI started painting graffiti and murals in Chihuahua Mexico at the age of 13\, and from there on it has been a constant part of life. Now I want to share with the public a window into the ideas that keep me passionate and compromised to this craft. \nSee more of Emmanuel’s work on Instagram: https://www.instagram.com/deber614/ \nwww.ArtHouse310.com\nFacebook | @ArtHouse310\,  Instagram | @ArtHouse310\, TikTok | @AngieAwesomePants
URL:https://arthouse310.com/event/alexandriabrowneserenasalernodeber/
LOCATION:Art House 310\, 310 S. Laura\, Wichita\, 67211\, United States
CATEGORIES:Art,Current Exhibition,Events
ATTACH;FMTTYPE=image/jpeg:https://arthouse310.com/wp-content/uploads/2024/10/NOVFF_AlexandriaBrowne_SerenaSalerno_Deber_header-01.jpg
ORGANIZER;CN="Art House 310":MAILTO:info@arthouse310.com
END:VEVENT
END:VCALENDAR